BEGIN:VCALENDAR
VERSION:2.0
PRODID:-//Women&#039;s Resource Center in Alamance County - ECPv6.15.17.1//NONSGML v1.0//EN
CALSCALE:GREGORIAN
METHOD:PUBLISH
X-ORIGINAL-URL:https://wrcac.org
X-WR-CALDESC:Events for Women&#039;s Resource Center in Alamance County
REFRESH-INTERVAL;VALUE=DURATION:PT1H
X-Robots-Tag:noindex
X-PUBLISHED-TTL:PT1H
BEGIN:VTIMEZONE
TZID:America/New_York
BEGIN:DAYLIGHT
TZOFFSETFROM:-0500
TZOFFSETTO:-0400
TZNAME:EDT
DTSTART:20240310T070000
END:DAYLIGHT
BEGIN:STANDARD
TZOFFSETFROM:-0400
TZOFFSETTO:-0500
TZNAME:EST
DTSTART:20241103T060000
END:STANDARD
BEGIN:DAYLIGHT
TZOFFSETFROM:-0500
TZOFFSETTO:-0400
TZNAME:EDT
DTSTART:20250309T070000
END:DAYLIGHT
BEGIN:STANDARD
TZOFFSETFROM:-0400
TZOFFSETTO:-0500
TZNAME:EST
DTSTART:20251102T060000
END:STANDARD
BEGIN:DAYLIGHT
TZOFFSETFROM:-0500
TZOFFSETTO:-0400
TZNAME:EDT
DTSTART:20260308T070000
END:DAYLIGHT
BEGIN:STANDARD
TZOFFSETFROM:-0400
TZOFFSETTO:-0500
TZNAME:EST
DTSTART:20261101T060000
END:STANDARD
END:VTIMEZONE
BEGIN:VEVENT
DTSTART;TZID=America/New_York:20250812T090000
DTEND;TZID=America/New_York:20250828T113000
DTSTAMP:20260417T161140
CREATED:20250708T152904Z
LAST-MODIFIED:20250709T162626Z
UID:7681-1754989200-1756380600@wrcac.org
SUMMARY:EmpowerHER Job Search Series August 2025
DESCRIPTION:Embark on a transformative journey with the Women’s Resource Center in Alamance County’s “EmpowerHER” Job Search seminar. Whether you’re stepping into the working world for the first time or aiming to elevate your career\, this series has something for every woman at any stage of her career path. \nWhen: Tuesdays and Thursdays\, August 12th – 28th\, 2025\n9:00 a.m. to 11:30 a.m. \nWhere: IN Person at the WRCAC Office \nWhat to Expect: \n\nResume Building: Craft a compelling resume that highlights your unique strengths.\nCover Letter Writing: Master writing cover letters that captivate employers.\nInterview Tips & Tricks: Learn valuable strategies to shine in interviews.\nSelf-assessments: Uncover your true potential and discover what’s best for you.\n\nFlexible Attendance: Feel free to join us for one session or immerse yourself in all six workshops. Complete the full series\, and you’ll receive a completion certificate\, a clothing voucher\, and a chance to win a Food Lion Gift Card! \nRegister HERE
URL:https://wrcac.org/event/empowerher-job-search-series-august-2025/
LOCATION:Women’s Resource Center in Alamance County\, 411 B West Fifth Street\, Burlington\, NC\, 27215\, United States
CATEGORIES:Life Design,Workshops
ATTACH;FMTTYPE=image/png:https://wrcac.org/wp-content/uploads/2025/07/EmpowerHER-Cover-August-25.png
END:VEVENT
END:VCALENDAR