BEGIN:VCALENDAR
VERSION:2.0
PRODID:-//Women&#039;s Resource Center in Alamance County - ECPv6.15.17.1//NONSGML v1.0//EN
CALSCALE:GREGORIAN
METHOD:PUBLISH
X-ORIGINAL-URL:https://wrcac.org
X-WR-CALDESC:Events for Women&#039;s Resource Center in Alamance County
REFRESH-INTERVAL;VALUE=DURATION:PT1H
X-Robots-Tag:noindex
X-PUBLISHED-TTL:PT1H
BEGIN:VTIMEZONE
TZID:America/New_York
BEGIN:DAYLIGHT
TZOFFSETFROM:-0500
TZOFFSETTO:-0400
TZNAME:EDT
DTSTART:20240310T070000
END:DAYLIGHT
BEGIN:STANDARD
TZOFFSETFROM:-0400
TZOFFSETTO:-0500
TZNAME:EST
DTSTART:20241103T060000
END:STANDARD
BEGIN:DAYLIGHT
TZOFFSETFROM:-0500
TZOFFSETTO:-0400
TZNAME:EDT
DTSTART:20250309T070000
END:DAYLIGHT
BEGIN:STANDARD
TZOFFSETFROM:-0400
TZOFFSETTO:-0500
TZNAME:EST
DTSTART:20251102T060000
END:STANDARD
BEGIN:DAYLIGHT
TZOFFSETFROM:-0500
TZOFFSETTO:-0400
TZNAME:EDT
DTSTART:20260308T070000
END:DAYLIGHT
BEGIN:STANDARD
TZOFFSETFROM:-0400
TZOFFSETTO:-0500
TZNAME:EST
DTSTART:20261101T060000
END:STANDARD
END:VTIMEZONE
BEGIN:VEVENT
DTSTART;VALUE=DATE:20250918
DTEND;VALUE=DATE:20250919
DTSTAMP:20260417T095957
CREATED:20250811T201849Z
LAST-MODIFIED:20250909T193009Z
UID:7867-1758153600-1758239999@wrcac.org
SUMMARY:Dine for a Cause with MOD Pizza! 🍕
DESCRIPTION:Join us on Thursday\, September 18\, 2025\, and support the Women’s Resource Center in Alamance County simply by enjoying a meal at MOD Pizza. \nWhen you order\, 25% of your purchase will be donated to WRC to help fund programs that empower women in our community. \n👉 Here’s how to participate: \n\n\nOrder online using code MODGIVES25 \n\n\nOr visit in person at the MOD Pizza\, 2760 S. Church St.\, Suite 109\, Burlington\, NC 27215\, and show the fundraiser flyer or mention the fundraiser at checkout \n\n\nYour pizza night = a stronger future for local women. 💜 \nCheck out the flyer Here  \n*Donation excludes tax\, gift cards\, and retail sales. Flyer may not be distributed in or near the restaurant.
URL:https://wrcac.org/event/mod-pizza-fundraiser/
LOCATION:MOD Pizza\, 2760 South Church Street #109\, Burlington\, NC\, 27215\, United States
CATEGORIES:Fundraiser
ATTACH;FMTTYPE=image/png:https://wrcac.org/wp-content/uploads/2025/08/Mod-Pizza-Fundraiser-Header.png
END:VEVENT
END:VCALENDAR