BEGIN:VCALENDAR
VERSION:2.0
PRODID:-//Women&#039;s Resource Center in Alamance County - ECPv6.15.17.1//NONSGML v1.0//EN
CALSCALE:GREGORIAN
METHOD:PUBLISH
X-ORIGINAL-URL:https://wrcac.org
X-WR-CALDESC:Events for Women&#039;s Resource Center in Alamance County
REFRESH-INTERVAL;VALUE=DURATION:PT1H
X-Robots-Tag:noindex
X-PUBLISHED-TTL:PT1H
BEGIN:VTIMEZONE
TZID:America/New_York
BEGIN:DAYLIGHT
TZOFFSETFROM:-0500
TZOFFSETTO:-0400
TZNAME:EDT
DTSTART:20240310T070000
END:DAYLIGHT
BEGIN:STANDARD
TZOFFSETFROM:-0400
TZOFFSETTO:-0500
TZNAME:EST
DTSTART:20241103T060000
END:STANDARD
BEGIN:DAYLIGHT
TZOFFSETFROM:-0500
TZOFFSETTO:-0400
TZNAME:EDT
DTSTART:20250309T070000
END:DAYLIGHT
BEGIN:STANDARD
TZOFFSETFROM:-0400
TZOFFSETTO:-0500
TZNAME:EST
DTSTART:20251102T060000
END:STANDARD
BEGIN:DAYLIGHT
TZOFFSETFROM:-0500
TZOFFSETTO:-0400
TZNAME:EDT
DTSTART:20260308T070000
END:DAYLIGHT
BEGIN:STANDARD
TZOFFSETFROM:-0400
TZOFFSETTO:-0500
TZNAME:EST
DTSTART:20261101T060000
END:STANDARD
END:VTIMEZONE
BEGIN:VEVENT
DTSTART;TZID=America/New_York:20251116T140000
DTEND;TZID=America/New_York:20251116T160000
DTSTAMP:20260419T082009
CREATED:20251103T172355Z
LAST-MODIFIED:20251107T162045Z
UID:8010-1763301600-1763308800@wrcac.org
SUMMARY:Growing Up & Liking It November 2025
DESCRIPTION:Every parent wants to be sure their daughter is prepared for all the changes that come with growing up.\nTo help smooth this transition into adolescence\, Women’s Resource Center offers “Growing up and Liking It” a workshop designed for both female caregivers and girls ages 8 to 11.  The workshop provides information about the changes that come with puberty as well as other physical\, emotional\, and sexuality issues. Participants will also build their own “Period Pack”—a personalized toolkit to help them feel ready and empowered for what’s ahead. \nRegister Today\, Space is Limited: https://lp.constantcontactpages.com/ev/reg/nr75kbs/lp/83e49d0e-0e30-4594-8b53-95a5df156329
URL:https://wrcac.org/event/growing-up-liking-it-november-2025/
LOCATION:Women’s Resource Center in Alamance County\, 411 B West Fifth Street\, Burlington\, NC\, 27215\, United States
CATEGORIES:Life Design,Workshops
ATTACH;FMTTYPE=image/png:https://wrcac.org/wp-content/uploads/2025/11/To-register-please-call-336-227-6900-or-visit-www.wrcac_.org-6.png
END:VEVENT
END:VCALENDAR