BEGIN:VCALENDAR
VERSION:2.0
PRODID:-//Women&#039;s Resource Center in Alamance County - ECPv6.15.17.1//NONSGML v1.0//EN
CALSCALE:GREGORIAN
METHOD:PUBLISH
X-ORIGINAL-URL:https://wrcac.org
X-WR-CALDESC:Events for Women&#039;s Resource Center in Alamance County
REFRESH-INTERVAL;VALUE=DURATION:PT1H
X-Robots-Tag:noindex
X-PUBLISHED-TTL:PT1H
BEGIN:VTIMEZONE
TZID:America/New_York
BEGIN:DAYLIGHT
TZOFFSETFROM:-0500
TZOFFSETTO:-0400
TZNAME:EDT
DTSTART:20240310T070000
END:DAYLIGHT
BEGIN:STANDARD
TZOFFSETFROM:-0400
TZOFFSETTO:-0500
TZNAME:EST
DTSTART:20241103T060000
END:STANDARD
BEGIN:DAYLIGHT
TZOFFSETFROM:-0500
TZOFFSETTO:-0400
TZNAME:EDT
DTSTART:20250309T070000
END:DAYLIGHT
BEGIN:STANDARD
TZOFFSETFROM:-0400
TZOFFSETTO:-0500
TZNAME:EST
DTSTART:20251102T060000
END:STANDARD
BEGIN:DAYLIGHT
TZOFFSETFROM:-0500
TZOFFSETTO:-0400
TZNAME:EDT
DTSTART:20260308T070000
END:DAYLIGHT
BEGIN:STANDARD
TZOFFSETFROM:-0400
TZOFFSETTO:-0500
TZNAME:EST
DTSTART:20261101T060000
END:STANDARD
END:VTIMEZONE
BEGIN:VEVENT
DTSTART;TZID=America/New_York:20251118T123000
DTEND;TZID=America/New_York:20251118T133000
DTSTAMP:20260419T082010
CREATED:20251103T202435Z
LAST-MODIFIED:20251103T202435Z
UID:8018-1763469000-1763472600@wrcac.org
SUMMARY:Breaking Up & Moving On November 2025
DESCRIPTION:November 18th at 12:30 pm\nGet your questions about divorce\, child custody\, and separation answered in a private\, one-hour Zoom session with an experienced attorney.\nRegister now to join from the comfort of your home! –https://us02web.zoom.us/meeting/register/JMrDYcbTRgiLfpRU8myiWw
URL:https://wrcac.org/event/breaking-up-moving-on-november-2025/
LOCATION:ZOOM
CATEGORIES:Workshops
ATTACH;FMTTYPE=image/png:https://wrcac.org/wp-content/uploads/2025/11/Facebook-Cover-Breaking-Up-Moving-On-A-Workshop-6.png
END:VEVENT
END:VCALENDAR