BEGIN:VCALENDAR
VERSION:2.0
PRODID:-//Women&#039;s Resource Center in Alamance County - ECPv6.15.17.1//NONSGML v1.0//EN
CALSCALE:GREGORIAN
METHOD:PUBLISH
X-ORIGINAL-URL:https://wrcac.org
X-WR-CALDESC:Events for Women&#039;s Resource Center in Alamance County
REFRESH-INTERVAL;VALUE=DURATION:PT1H
X-Robots-Tag:noindex
X-PUBLISHED-TTL:PT1H
BEGIN:VTIMEZONE
TZID:America/New_York
BEGIN:DAYLIGHT
TZOFFSETFROM:-0500
TZOFFSETTO:-0400
TZNAME:EDT
DTSTART:20240310T070000
END:DAYLIGHT
BEGIN:STANDARD
TZOFFSETFROM:-0400
TZOFFSETTO:-0500
TZNAME:EST
DTSTART:20241103T060000
END:STANDARD
BEGIN:DAYLIGHT
TZOFFSETFROM:-0500
TZOFFSETTO:-0400
TZNAME:EDT
DTSTART:20250309T070000
END:DAYLIGHT
BEGIN:STANDARD
TZOFFSETFROM:-0400
TZOFFSETTO:-0500
TZNAME:EST
DTSTART:20251102T060000
END:STANDARD
BEGIN:DAYLIGHT
TZOFFSETFROM:-0500
TZOFFSETTO:-0400
TZNAME:EDT
DTSTART:20260308T070000
END:DAYLIGHT
BEGIN:STANDARD
TZOFFSETFROM:-0400
TZOFFSETTO:-0500
TZNAME:EST
DTSTART:20261101T060000
END:STANDARD
END:VTIMEZONE
BEGIN:VEVENT
DTSTART;TZID=America/New_York:20250909T090000
DTEND;TZID=America/New_York:20250909T120000
DTSTAMP:20260417T073714
CREATED:20250806T184537Z
LAST-MODIFIED:20250910T135851Z
UID:7825-1757408400-1757419200@wrcac.org
SUMMARY:Communication & Customer Service Skills for Today's Workforce
DESCRIPTION:ALL SESSIONS POSTPONED TO A LATER DATE\n\nDo you have what it takes to stand out in the workplace? Give great customer service? Showcase your abilities? This course will help you develop the soft skills you need to get a job\, achieve success\, and get a push forward to the next level in your career. Learn the essential communication skills that employers are seeking\, and practice them in a supportive environment. This workshop meets Tuesday’s and Thursday’s  September 9th – 25th.\nGuidelines: \nThis class is FREE to those who meet any one of the following four criteria: \n\n\nYou are currently unemployed\nYou have received notification of a pending layoff\nYou are working and eligible for the Federal Earned Income Tax Credit\nYou are working and earn wages at or below 200 percent of the federal poverty guidelines\n\nRegister HERE
URL:https://wrcac.org/event/communication-customer-service-skills-for-todays-workforce/
LOCATION:Women’s Resource Center in Alamance County\, 411 B West Fifth Street\, Burlington\, NC\, 27215\, United States
CATEGORIES:Employability Skills,Workshops
ATTACH;FMTTYPE=image/png:https://wrcac.org/wp-content/uploads/2025/08/Cust.-Service-WKSHP-9.25.png
END:VEVENT
END:VCALENDAR