BEGIN:VCALENDAR
VERSION:2.0
PRODID:-//Women&#039;s Resource Center in Alamance County - ECPv6.15.17.1//NONSGML v1.0//EN
CALSCALE:GREGORIAN
METHOD:PUBLISH
X-ORIGINAL-URL:https://wrcac.org
X-WR-CALDESC:Events for Women&#039;s Resource Center in Alamance County
REFRESH-INTERVAL;VALUE=DURATION:PT1H
X-Robots-Tag:noindex
X-PUBLISHED-TTL:PT1H
BEGIN:VTIMEZONE
TZID:America/New_York
BEGIN:DAYLIGHT
TZOFFSETFROM:-0500
TZOFFSETTO:-0400
TZNAME:EDT
DTSTART:20240310T070000
END:DAYLIGHT
BEGIN:STANDARD
TZOFFSETFROM:-0400
TZOFFSETTO:-0500
TZNAME:EST
DTSTART:20241103T060000
END:STANDARD
BEGIN:DAYLIGHT
TZOFFSETFROM:-0500
TZOFFSETTO:-0400
TZNAME:EDT
DTSTART:20250309T070000
END:DAYLIGHT
BEGIN:STANDARD
TZOFFSETFROM:-0400
TZOFFSETTO:-0500
TZNAME:EST
DTSTART:20251102T060000
END:STANDARD
BEGIN:DAYLIGHT
TZOFFSETFROM:-0500
TZOFFSETTO:-0400
TZNAME:EDT
DTSTART:20260308T070000
END:DAYLIGHT
BEGIN:STANDARD
TZOFFSETFROM:-0400
TZOFFSETTO:-0500
TZNAME:EST
DTSTART:20261101T060000
END:STANDARD
END:VTIMEZONE
BEGIN:VEVENT
DTSTART;TZID=America/New_York:20251203T160000
DTEND;TZID=America/New_York:20251203T180000
DTSTAMP:20260419T114009
CREATED:20251104T182612Z
LAST-MODIFIED:20251105T130957Z
UID:8033-1764777600-1764784800@wrcac.org
SUMMARY:LinkedIn Lab
DESCRIPTION:Wednesday\, December 3rd 4:00 – 6:00 PM \nJoin us each month for a hands-on LinkedIn session designed to help you polish your profile\, grow your network\, and strengthen your professional presence.\nEach session includes a short presentation on a LinkedIn best practice\, followed by dedicated time to apply what you’ve learned. Bring your laptop and get ready to work on YOU. \nThis Month’s Focus: \n\n📝Designing Your Professional Identity- profile photos\, banner images\, and visual presence with Guest Presenter Bianca Smith.\n📍 Women’s Resource Center\n🗓 Wednesday 12/03/2025\n⏰ 4:00 – 6:00 PM\n💻 Bring your laptop\n\nRegister Today: https://lp.constantcontactpages.com/ev/reg/b6edqaf/lp/f89ee062-7756-42f3-a212-63e22d406fc7
URL:https://wrcac.org/event/linkedin-lab-2/
LOCATION:Women’s Resource Center in Alamance County\, 411 B West Fifth Street\, Burlington\, NC\, 27215\, United States
CATEGORIES:Employability Skills,Life Design,LinkedIn,Workshops
ATTACH;FMTTYPE=image/png:https://wrcac.org/wp-content/uploads/2025/11/12.3.25-LinkedIn-Lab.png
END:VEVENT
END:VCALENDAR