BEGIN:VCALENDAR
VERSION:2.0
PRODID:-//Women&#039;s Resource Center in Alamance County - ECPv6.15.17.1//NONSGML v1.0//EN
CALSCALE:GREGORIAN
METHOD:PUBLISH
X-ORIGINAL-URL:https://wrcac.org
X-WR-CALDESC:Events for Women&#039;s Resource Center in Alamance County
REFRESH-INTERVAL;VALUE=DURATION:PT1H
X-Robots-Tag:noindex
X-PUBLISHED-TTL:PT1H
BEGIN:VTIMEZONE
TZID:America/New_York
BEGIN:DAYLIGHT
TZOFFSETFROM:-0500
TZOFFSETTO:-0400
TZNAME:EDT
DTSTART:20240310T070000
END:DAYLIGHT
BEGIN:STANDARD
TZOFFSETFROM:-0400
TZOFFSETTO:-0500
TZNAME:EST
DTSTART:20241103T060000
END:STANDARD
BEGIN:DAYLIGHT
TZOFFSETFROM:-0500
TZOFFSETTO:-0400
TZNAME:EDT
DTSTART:20250309T070000
END:DAYLIGHT
BEGIN:STANDARD
TZOFFSETFROM:-0400
TZOFFSETTO:-0500
TZNAME:EST
DTSTART:20251102T060000
END:STANDARD
BEGIN:DAYLIGHT
TZOFFSETFROM:-0500
TZOFFSETTO:-0400
TZNAME:EDT
DTSTART:20260308T070000
END:DAYLIGHT
BEGIN:STANDARD
TZOFFSETFROM:-0400
TZOFFSETTO:-0500
TZNAME:EST
DTSTART:20261101T060000
END:STANDARD
END:VTIMEZONE
BEGIN:VEVENT
DTSTART;TZID=America/New_York:20250902T123000
DTEND;TZID=America/New_York:20250902T133000
DTSTAMP:20260417T073020
CREATED:20250806T191906Z
LAST-MODIFIED:20250902T183558Z
UID:7830-1756816200-1756819800@wrcac.org
SUMMARY:Pinnacle Financial Partners - Finance 101 Money Mindsets
DESCRIPTION:Money Made Simple: A Free 6-Week Financial Workshop SeriesPresented by Pinnacle Financial Partners &  Women’s Resource Center in Alamance County \nMoney doesn’t have to be stressful or complicated — and you don’t have to figure it out alone. Join us for a free\, in-person 6-week financial workshop series designed to help you build confidence with your finances in a supportive\, judgment-free space. \nWe’ll cover the basics:💡 Your money mindset📋 Budgeting that works for real life📈 Understanding credit💳 Smart spending habits…and more! \nNo spreadsheets\, no pressure — just real conversations and practical tools to help you take control of your financial future. \n🗓 September 2 – October 7📆 Tuesdays | 12:30–1:30 PM📍 Women’s Resource Center✅ All are welcome — bring a friend! Register HERE \n✨ Whether you’re starting from scratch or just need a reset\, this series is for you.
URL:https://wrcac.org/event/pinnacle-financial-partners-finance-101/
LOCATION:NC
CATEGORIES:Financial Literacy,Workshops
ATTACH;FMTTYPE=image/png:https://wrcac.org/wp-content/uploads/2025/08/Purple-Blue-Modern-Skill-and-Training-Workshop-Instagram-Post.png
END:VEVENT
BEGIN:VEVENT
DTSTART;TZID=America/New_York:20250909T123000
DTEND;TZID=America/New_York:20250909T133000
DTSTAMP:20260417T073020
CREATED:20250806T192449Z
LAST-MODIFIED:20250806T193543Z
UID:7836-1757421000-1757424600@wrcac.org
SUMMARY:Pinnacle Finacial Partners - Finance 101 A Budget That Works
DESCRIPTION:Presented by Pinnacle Financial Partners &  Women’s Resource Center in Alamance County \nMoney doesn’t have to be stressful or complicated — and you don’t have to figure it out alone. Join us for a free\, in-person 6-week financial workshop series designed to help you build confidence with your finances in a supportive\, judgment-free space. \nWe’ll cover the basics:💡 Your money mindset📋 Budgeting that works for real life📈 Understanding credit💳 Smart spending habits…and more! \nNo spreadsheets\, no pressure — just real conversations and practical tools to help you take control of your financial future. \n🗓 September 2 – October 7📆 Tuesdays | 12:30–1:30 PM📍 Women’s Resource Center✅ All are welcome — bring a friend! Register HERE \n✨ Whether you’re starting from scratch or just need a reset\, this series is for you.
URL:https://wrcac.org/event/pinnacle-finacial-partners-finance-101-a-budget-that-works/
LOCATION:Women’s Resource Center in Alamance County\, 411 B West Fifth Street\, Burlington\, NC\, 27215\, United States
CATEGORIES:Financial Literacy,Workshops
ATTACH;FMTTYPE=image/png:https://wrcac.org/wp-content/uploads/2025/08/Instagram-Post-Empowering-Women-in-Finance.png
END:VEVENT
BEGIN:VEVENT
DTSTART;TZID=America/New_York:20250916T123000
DTEND;TZID=America/New_York:20250916T133000
DTSTAMP:20260417T073020
CREATED:20250806T192801Z
LAST-MODIFIED:20250806T193301Z
UID:7844-1758025800-1758029400@wrcac.org
SUMMARY:Pinnacle Financial Partners: Finance 101 Give Yourself A Raise
DESCRIPTION:Presented by Pinnacle Financial Partners &  Women’s Resource Center in Alamance County \nMoney doesn’t have to be stressful or complicated — and you don’t have to figure it out alone. Join us for a free\, in-person 6-week financial workshop series designed to help you build confidence with your finances in a supportive\, judgment-free space. \nWe’ll cover the basics:💡 Your money mindset📋 Budgeting that works for real life📈 Understanding credit💳 Smart spending habits…and more! \nNo spreadsheets\, no pressure — just real conversations and practical tools to help you take control of your financial future. \n🗓 September 2 – October 7📆 Tuesdays | 12:30–1:30 PM📍 Women’s Resource Center✅ All are welcome — bring a friend! Register HERE \n✨ Whether you’re starting from scratch or just need a reset\, this series is for you.
URL:https://wrcac.org/event/pinnacle-financial-partners-finance-101-give-yourself-a-raise/
LOCATION:Women’s Resource Center in Alamance County\, 411 B West Fifth Street\, Burlington\, NC\, 27215\, United States
CATEGORIES:Financial Literacy,Workshops
ATTACH;FMTTYPE=image/png:https://wrcac.org/wp-content/uploads/2025/08/Purple-Blue-Modern-Skill-and-Training-Workshop-Instagram-Post.png
END:VEVENT
BEGIN:VEVENT
DTSTART;TZID=America/New_York:20250923T123000
DTEND;TZID=America/New_York:20250923T133000
DTSTAMP:20260417T073020
CREATED:20250806T193110Z
LAST-MODIFIED:20250806T193110Z
UID:7842-1758630600-1758634200@wrcac.org
SUMMARY:Pinnacle Financial Partners: Finance 101 Using Credit Wisely
DESCRIPTION:Presented by Pinnacle Financial Partners &  Women’s Resource Center in Alamance County \nMoney doesn’t have to be stressful or complicated — and you don’t have to figure it out alone. Join us for a free\, in-person 6-week financial workshop series designed to help you build confidence with your finances in a supportive\, judgment-free space. \nWe’ll cover the basics:💡 Your money mindset📋 Budgeting that works for real life📈 Understanding credit💳 Smart spending habits…and more! \nNo spreadsheets\, no pressure — just real conversations and practical tools to help you take control of your financial future. \n🗓 September 2 – October 7📆 Tuesdays | 12:30–1:30 PM📍 Women’s Resource Center✅ All are welcome — bring a friend! Register HERE \n✨ Whether you’re starting from scratch or just need a reset\, this series is for you.
URL:https://wrcac.org/event/pinnacle-financial-partners-finance-101-using-credit-wisely/
LOCATION:Women’s Resource Center in Alamance County\, 411 B West Fifth Street\, Burlington\, NC\, 27215\, United States
CATEGORIES:Financial Literacy,Workshops
ATTACH;FMTTYPE=image/png:https://wrcac.org/wp-content/uploads/2025/08/Purple-Blue-Modern-Skill-and-Training-Workshop-Instagram-Post.png
END:VEVENT
BEGIN:VEVENT
DTSTART;TZID=America/New_York:20250930T123000
DTEND;TZID=America/New_York:20250930T130000
DTSTAMP:20260417T073020
CREATED:20250806T193229Z
LAST-MODIFIED:20250902T183731Z
UID:7840-1759235400-1759237200@wrcac.org
SUMMARY:Pinnacle Financial Partners: Finance 101 Automobile Advice
DESCRIPTION:Presented by Pinnacle Financial Partners &  Women’s Resource Center in Alamance County \nMoney doesn’t have to be stressful or complicated — and you don’t have to figure it out alone. Join us for a free\, in-person 6-week financial workshop series designed to help you build confidence with your finances in a supportive\, judgment-free space. \nWe’ll cover the basics:💡 Your money mindset📋 Budgeting that works for real life📈 Understanding credit💳 Smart spending habits…and more! \nNo spreadsheets\, no pressure — just real conversations and practical tools to help you take control of your financial future. \n🗓 September 2 – October 7📆 Tuesdays | 12:30–1:30 PM📍 Women’s Resource Center✅ All are welcome — bring a friend! Register HERE \n✨ Whether you’re starting from scratch or just need a reset\, this series is for you.
URL:https://wrcac.org/event/pinnacle-financial-partners-finance-101-automobile-advice/
LOCATION:Women’s Resource Center in Alamance County\, 411 B West Fifth Street\, Burlington\, NC\, 27215\, United States
CATEGORIES:Financial Literacy,Workshops
END:VEVENT
END:VCALENDAR