BEGIN:VCALENDAR
VERSION:2.0
PRODID:-//Women&#039;s Resource Center in Alamance County - ECPv6.15.17.1//NONSGML v1.0//EN
CALSCALE:GREGORIAN
METHOD:PUBLISH
X-WR-CALNAME:Women&#039;s Resource Center in Alamance County
X-ORIGINAL-URL:https://wrcac.org
X-WR-CALDESC:Events for Women&#039;s Resource Center in Alamance County
REFRESH-INTERVAL;VALUE=DURATION:PT1H
X-Robots-Tag:noindex
X-PUBLISHED-TTL:PT1H
BEGIN:VTIMEZONE
TZID:America/New_York
BEGIN:DAYLIGHT
TZOFFSETFROM:-0500
TZOFFSETTO:-0400
TZNAME:EDT
DTSTART:20240310T070000
END:DAYLIGHT
BEGIN:STANDARD
TZOFFSETFROM:-0400
TZOFFSETTO:-0500
TZNAME:EST
DTSTART:20241103T060000
END:STANDARD
BEGIN:DAYLIGHT
TZOFFSETFROM:-0500
TZOFFSETTO:-0400
TZNAME:EDT
DTSTART:20250309T070000
END:DAYLIGHT
BEGIN:STANDARD
TZOFFSETFROM:-0400
TZOFFSETTO:-0500
TZNAME:EST
DTSTART:20251102T060000
END:STANDARD
BEGIN:DAYLIGHT
TZOFFSETFROM:-0500
TZOFFSETTO:-0400
TZNAME:EDT
DTSTART:20260308T070000
END:DAYLIGHT
BEGIN:STANDARD
TZOFFSETFROM:-0400
TZOFFSETTO:-0500
TZNAME:EST
DTSTART:20261101T060000
END:STANDARD
END:VTIMEZONE
BEGIN:VEVENT
DTSTART;TZID=America/New_York:20250917T160000
DTEND;TZID=America/New_York:20250917T180000
DTSTAMP:20260416T234118
CREATED:20250902T154118Z
LAST-MODIFIED:20250902T154118Z
UID:7886-1758124800-1758132000@wrcac.org
SUMMARY:LinkedIn Lab: Life Design for Your Career Presence
DESCRIPTION:At the Women’s Resource Center\, we know your professional journey is about more than just updating a profile — it’s about aligning who you are with where you want to go. \nOur monthly LinkedIn Lab blends Life Design Tools & Coaching with hands-on LinkedIn work time. Each session begins with a short workshop that helps you clarify your career goals\, values\, and strengths — and then shows you how to translate that clarity into your LinkedIn presence. \n✨ Whether you’re exploring new possibilities\, re-entering the workforce\, or expanding your professional reach\, this is your dedicated space to design your next step and share it confidently online. \nThis Month’s Focus – Who Are You & Where Are You Going? \n\nLife Design Tool: Self-reflection on strengths\, skills\, and values.\nLinkedIn Focus: Crafting your headline & About section to reflect your story.\n\n📍 Women’s Resource Center in Alamance County\n🗓 September 17th\, 2025\n⏰ 4:00 P.M. – 6:00 P.M\n💻 Bring your laptop \nRegister Today!
URL:https://wrcac.org/event/linkedin-lab-life-design-for-your-career-presence/
LOCATION:Women’s Resource Center in Alamance County\, 411 B West Fifth Street\, Burlington\, NC\, 27215\, United States
CATEGORIES:LinkedIn,Workshops
ATTACH;FMTTYPE=image/png:https://wrcac.org/wp-content/uploads/2025/09/LinkedIn-Lab.png
END:VEVENT
END:VCALENDAR