BEGIN:VCALENDAR
VERSION:2.0
PRODID:-//Women&#039;s Resource Center in Alamance County - ECPv6.15.17.1//NONSGML v1.0//EN
CALSCALE:GREGORIAN
METHOD:PUBLISH
X-WR-CALNAME:Women&#039;s Resource Center in Alamance County
X-ORIGINAL-URL:https://wrcac.org
X-WR-CALDESC:Events for Women&#039;s Resource Center in Alamance County
REFRESH-INTERVAL;VALUE=DURATION:PT1H
X-Robots-Tag:noindex
X-PUBLISHED-TTL:PT1H
BEGIN:VTIMEZONE
TZID:America/New_York
BEGIN:DAYLIGHT
TZOFFSETFROM:-0500
TZOFFSETTO:-0400
TZNAME:EDT
DTSTART:20240310T070000
END:DAYLIGHT
BEGIN:STANDARD
TZOFFSETFROM:-0400
TZOFFSETTO:-0500
TZNAME:EST
DTSTART:20241103T060000
END:STANDARD
BEGIN:DAYLIGHT
TZOFFSETFROM:-0500
TZOFFSETTO:-0400
TZNAME:EDT
DTSTART:20250309T070000
END:DAYLIGHT
BEGIN:STANDARD
TZOFFSETFROM:-0400
TZOFFSETTO:-0500
TZNAME:EST
DTSTART:20251102T060000
END:STANDARD
BEGIN:DAYLIGHT
TZOFFSETFROM:-0500
TZOFFSETTO:-0400
TZNAME:EDT
DTSTART:20260308T070000
END:DAYLIGHT
BEGIN:STANDARD
TZOFFSETFROM:-0400
TZOFFSETTO:-0500
TZNAME:EST
DTSTART:20261101T060000
END:STANDARD
END:VTIMEZONE
BEGIN:VEVENT
DTSTART;TZID=America/New_York:20250717T110000
DTEND;TZID=America/New_York:20250717T130000
DTSTAMP:20260417T043614
CREATED:20250709T161626Z
LAST-MODIFIED:20250709T161626Z
UID:7712-1752750000-1752757200@wrcac.org
SUMMARY:Vision & Voice: Design Your Empowered Life
DESCRIPTION:In Person Thursday\, July 17th\, 2025 \nVision & Voice: Design Your Empowered Life is more than just a vision board workshop—it’s a focused\, energizing experience for women ready to get intentional about their next chapter. This workshop blends creative expression with practical tools for self-reflection\, goal-setting\, and personal empowerment. \nIn a supportive\, women-centered space\, you’ll have the opportunity to slow down\, tune in\, and clarify what you truly want—then take the first step toward making it real. \nTogether\, we’ll explore: \n\nHow to identify and align with your core values and vision\nThe power of storytelling and self-talk in shaping your mindset\nPractical goal-setting strategies rooted in Life Design principles\nCreative exercises to bring your goals to life visually\nHow to use your vision board as a daily tool for focus and motivation\n\nYou’ll walk away with: \n\nA personalized vision board that reflects your goals and dreams\nA renewed sense of clarity\, purpose\, and direction\nEmpowerment tools to help you take action after the workshop\nConnection with like-minded women who are also ready to grow\n\nWhether you’re navigating a career change\, rediscovering your identity\, or setting bold new goals\, Vision & Voice will help you design a life that reflects the real you—confident\, clear\, and empowered. \nMore Information and Registration HERE
URL:https://wrcac.org/event/vision-voice-design-your-empowered-life/
LOCATION:Women’s Resource Center in Alamance County\, 411 B West Fifth Street\, Burlington\, NC\, 27215\, United States
CATEGORIES:Life Design,Workshops
ATTACH;FMTTYPE=image/png:https://wrcac.org/wp-content/uploads/2025/07/Voices-and-Vision-Design-Your-Empowered-Life-1.png
END:VEVENT
BEGIN:VEVENT
DTSTART;VALUE=DATE:20250719
DTEND;VALUE=DATE:20250721
DTSTAMP:20260417T043614
CREATED:20250709T145912Z
LAST-MODIFIED:20250709T145937Z
UID:7691-1752883200-1753055999@wrcac.org
SUMMARY:Sip\, Save & Support Caribou Coffee Grand Opening Fundraiser
DESCRIPTION:Caribou Coffee – Burlington\, NC.  \nAddress: 216 Huffman Mill Road\, Burlington\, NC. \nGiveback Weekend: Saturday & Sunday of Grand Opening\, July 19-20 \nFor every transaction during grand opening weekend\, Saturday & Sunday\, July 19-20\, Caribou Coffee will donate $1 to Women’s Resource Center in Alamance County to support WRCAC’s mission: We empower women to improve and enrich their lives\, supporting them through life transitions with life design tools to achieve stability\, self-sufficiency\, and success. When women succeed\, communities THRIVE! \n\n 
URL:https://wrcac.org/event/sip-save-support-caribou-coffee-grand-opening-fundraiser/
LOCATION:Caribou Coffee\, 216 Huffman Mill Road\, Burlington\, North Carolina\, 27215
CATEGORIES:Fundraiser
ATTACH;FMTTYPE=image/png:https://wrcac.org/wp-content/uploads/2025/07/Grand-Opening-Social_square-8.png
END:VEVENT
BEGIN:VEVENT
DTSTART;TZID=America/New_York:20250729T123000
DTEND;TZID=America/New_York:20250729T133000
DTSTAMP:20260417T043614
CREATED:20250708T165200Z
LAST-MODIFIED:20250709T162835Z
UID:7685-1753792200-1753795800@wrcac.org
SUMMARY:Breaking Up & Moving On July 2025
DESCRIPTION:VIRTUAL   Tuesday\, July 29th at 12:30 PM \nThis one-hour Zoom meeting is facilitated by an attorney who will answer your questions about divorce\, child custody\, and separation. Zoom will help make this workshop easier to attend and give you more privacy! \nTo participate\, register through our website or call our office at 336-227-6900. We will explain the process and register you for the meeting. Then\, in the privacy of your home or office\, you can Zoom in and get some of your questions about this critical transition answered. \nRegister HERE
URL:https://wrcac.org/event/breaking-up-moving-on-july-2025/
LOCATION:ZOOM
CATEGORIES:Workshops
ATTACH;FMTTYPE=image/png:https://wrcac.org/wp-content/uploads/2025/07/Facebook-Cover-Breaking-Up-Moving-On-A-Workshop.png
END:VEVENT
BEGIN:VEVENT
DTSTART;TZID=America/New_York:20250730T190000
DTEND;TZID=America/New_York:20250730T203000
DTSTAMP:20260417T043614
CREATED:20250715T181440Z
LAST-MODIFIED:20250715T181440Z
UID:7741-1753902000-1753907400@wrcac.org
SUMMARY:BookWomen Book Club
DESCRIPTION:This month’s book discussion will be on Hello Beautiful by Ann Napolitano. A novel about a man who falls in love with a woman and her three sisters\, and the secrets that threaten their happiness. Ann Napolitano is the author of Hello Beautiful\, a New York Times bestseller and a 2023 Oprah Book Club pick. \nWe hope to see you there!
URL:https://wrcac.org/event/bookwomen-book-club/
LOCATION:Women’s Resource Center in Alamance County\, 411 B West Fifth Street\, Burlington\, NC\, 27215\, United States
CATEGORIES:BookWomen
ATTACH;FMTTYPE=image/png:https://wrcac.org/wp-content/uploads/2025/07/Untitled-design-2025-07-15T141302.990.png
END:VEVENT
END:VCALENDAR