BEGIN:VCALENDAR
VERSION:2.0
PRODID:-//Women&#039;s Resource Center in Alamance County - ECPv6.15.17.1//NONSGML v1.0//EN
CALSCALE:GREGORIAN
METHOD:PUBLISH
X-WR-CALNAME:Women&#039;s Resource Center in Alamance County
X-ORIGINAL-URL:https://wrcac.org
X-WR-CALDESC:Events for Women&#039;s Resource Center in Alamance County
REFRESH-INTERVAL;VALUE=DURATION:PT1H
X-Robots-Tag:noindex
X-PUBLISHED-TTL:PT1H
BEGIN:VTIMEZONE
TZID:America/New_York
BEGIN:DAYLIGHT
TZOFFSETFROM:-0500
TZOFFSETTO:-0400
TZNAME:EDT
DTSTART:20240310T070000
END:DAYLIGHT
BEGIN:STANDARD
TZOFFSETFROM:-0400
TZOFFSETTO:-0500
TZNAME:EST
DTSTART:20241103T060000
END:STANDARD
BEGIN:DAYLIGHT
TZOFFSETFROM:-0500
TZOFFSETTO:-0400
TZNAME:EDT
DTSTART:20250309T070000
END:DAYLIGHT
BEGIN:STANDARD
TZOFFSETFROM:-0400
TZOFFSETTO:-0500
TZNAME:EST
DTSTART:20251102T060000
END:STANDARD
BEGIN:DAYLIGHT
TZOFFSETFROM:-0500
TZOFFSETTO:-0400
TZNAME:EDT
DTSTART:20260308T070000
END:DAYLIGHT
BEGIN:STANDARD
TZOFFSETFROM:-0400
TZOFFSETTO:-0500
TZNAME:EST
DTSTART:20261101T060000
END:STANDARD
END:VTIMEZONE
BEGIN:VEVENT
DTSTART;TZID=America/New_York:20251007T090000
DTEND;TZID=America/New_York:20251007T233000
DTSTAMP:20260419T081706
CREATED:20250909T160011Z
LAST-MODIFIED:20250909T161600Z
UID:7902-1759827600-1759879800@wrcac.org
SUMMARY:EmpowerHER Career Workshop - Know Yourself\, Find Your Fit
DESCRIPTION:Embark on a transformative journey with the Women’s Resource Center in Alamance County’s “EmpowerHER” Job Search seminar. Whether you’re stepping into the working world for the first time or aiming to elevate your career\, this series has something for every woman at any stage of her career path. In this workshop\, you will uncover your strengths\, passions\, and skills while learning how to research companies and industries that align with who you are. \nEach workshop in the EmpowerHER Career Series stands on its own\, but together they build a powerful foundation for your job search. Attend all six to earn a completion certificate\, receive a clothing voucher\, and be entered to win a Food Lion Gift Card! \nRegister HERE
URL:https://wrcac.org/event/empowerher-career-workshop-know-yourself-find-your-fit/
LOCATION:Women’s Resource Center in Alamance County\, 411 B West Fifth Street\, Burlington\, NC\, 27215\, United States
CATEGORIES:Employability Skills,Life Design,Workshops
ATTACH;FMTTYPE=image/png:https://wrcac.org/wp-content/uploads/2025/09/EmpowerHER-Cover-October-25.png
END:VEVENT
BEGIN:VEVENT
DTSTART;TZID=America/New_York:20251007T123000
DTEND;TZID=America/New_York:20251007T133000
DTSTAMP:20260419T081706
CREATED:20250806T193433Z
LAST-MODIFIED:20250902T183757Z
UID:7838-1759840200-1759843800@wrcac.org
SUMMARY:Pinnacle Financial Partners; Finance 101 Homebuying Hacks
DESCRIPTION:Presented by Pinnacle Financial Partners &  Women’s Resource Center in Alamance County \nMoney doesn’t have to be stressful or complicated — and you don’t have to figure it out alone. Join us for a free\, in-person 6-week financial workshop series designed to help you build confidence with your finances in a supportive\, judgment-free space. \nWe’ll cover the basics:💡 Your money mindset📋 Budgeting that works for real life📈 Understanding credit💳 Smart spending habits…and more! \nNo spreadsheets\, no pressure — just real conversations and practical tools to help you take control of your financial future. \n🗓 September 2 – October 7📆 Tuesdays | 12:30–1:30 PM📍 Women’s Resource Center✅ All are welcome — bring a friend! Register HERE! \n✨ Whether you’re starting from scratch or just need a reset\, this series is for you.
URL:https://wrcac.org/event/pinnacle-financial-partners-finance-101-homebuying-hacks/
LOCATION:Women’s Resource Center in Alamance County\, 411 B West Fifth Street\, Burlington\, NC\, 27215\, United States
CATEGORIES:Financial Literacy,Workshops
ATTACH;FMTTYPE=image/png:https://wrcac.org/wp-content/uploads/2025/08/Purple-Blue-Modern-Skill-and-Training-Workshop-Instagram-Post.png
END:VEVENT
BEGIN:VEVENT
DTSTART;TZID=America/New_York:20251007T180000
DTEND;TZID=America/New_York:20251007T200000
DTSTAMP:20260419T081706
CREATED:20250909T123103Z
LAST-MODIFIED:20250909T123103Z
UID:7892-1759860000-1759867200@wrcac.org
SUMMARY:An Autumn Evening for a Cause
DESCRIPTION:WRCAC Wine Dinner – Wine\, Dine & Make a difference! \nThis October\, gather with friends at Prego’s for an evening that delights the palate and strengthens our community. The Women’s Resource Center in Alamance County invites you to enjoy a chef-crafted fall menu paired with fine wine\, knowing that every reservation helps empower women through vital programs and support services. \nStarter✨ Homemade Pumpkin Ravioli — tender pasta pillows filled with rich pumpkin\, served in a decadent four-cheese sauce and finished with toasted almonds for a touch of warmth and crunch. \nEntrée (choose one):🍗 Chicken Caprese — juicy chicken breast sautéed in basil pesto sauce\, topped with fresh tomato and mozzarella\, and served alongside penne pasta tossed with garlic and oil.🐟 Filet of Sole — a mild white fish delicately prepared with lemon-butter sauce\, colorful peppers\, asparagus\, and fresh chopped tomatoes\, served with seasonal mixed vegetables. \nDessert🥧 Homemade Warm Apple Pie — a classic autumn treat\, baked golden and served with creamy vanilla ice cream. \n✨ Seating is limited to 90 guests for this intimate fall fundraising dinner. Reserve your place today and join us in raising a glass — and raising hope — for women in Alamance County. \nSecure Your Tickets Today! https://givebutter.com/Oct25Wine
URL:https://wrcac.org/event/an-autumn-evening-for-a-cause/
LOCATION:Prego’s Trattoria\, 422 Huffman Mill Rd\, Suite 122\, Burlington\, NC\, 27215\, United States
CATEGORIES:Fundraiser
ATTACH;FMTTYPE=image/png:https://wrcac.org/wp-content/uploads/2025/09/10.7.25-Wine-Dinner-Header.png
END:VEVENT
BEGIN:VEVENT
DTSTART;TZID=America/New_York:20251009T090000
DTEND;TZID=America/New_York:20251009T233000
DTSTAMP:20260419T081706
CREATED:20250909T160440Z
LAST-MODIFIED:20250909T161630Z
UID:7905-1760000400-1760052600@wrcac.org
SUMMARY:EmpowerHER Career Workshop - Charting Your Career Path
DESCRIPTION:Embark on a transformative journey with the Women’s Resource Center in Alamance County’s “EmpowerHER” Job Search seminar. Whether you’re stepping into the working world for the first time or aiming to elevate your career\, this series has something for every woman at any stage of her career path. In this workshop\, you will explore job search strategies\, tools\, and resources to help you identify your next career move with confidence and clarity. \nEach workshop in the EmpowerHER Career Series stands on its own\, but together they build a powerful foundation for your job search. Attend all six to earn a completion certificate\, receive a clothing voucher\, and be entered to win a Food Lion Gift Card! \nRegister HERE
URL:https://wrcac.org/event/empowerher-career-workshop-charting-your-career-path/
LOCATION:Women’s Resource Center in Alamance County\, 411 B West Fifth Street\, Burlington\, NC\, 27215\, United States
CATEGORIES:Employability Skills,Life Design,Workshops
ATTACH;FMTTYPE=image/png:https://wrcac.org/wp-content/uploads/2025/09/EmpowerHER-Cover-October-25.png
END:VEVENT
BEGIN:VEVENT
DTSTART;TZID=America/New_York:20251013T123000
DTEND;TZID=America/New_York:20251013T133000
DTSTAMP:20260419T081706
CREATED:20251001T162512Z
LAST-MODIFIED:20251001T162512Z
UID:7957-1760358600-1760362200@wrcac.org
SUMMARY:Break Free from People Pleasing
DESCRIPTION:October 13th\, 2025 12:30 PM \nLearn how to stop people-pleasing and start saying ‘yes’ to yourself at our upcoming workshop with Trudy Tobias\, LCSW. \nMore Information and Registration Here
URL:https://wrcac.org/event/break-free-from-people-pleasing/
LOCATION:ZOOM
CATEGORIES:Mental Health,Workshops
ATTACH;FMTTYPE=image/png:https://wrcac.org/wp-content/uploads/2025/10/People-Pleasing-vs.-Peace-of-Mind-1.png
END:VEVENT
BEGIN:VEVENT
DTSTART;TZID=America/New_York:20251014T090000
DTEND;TZID=America/New_York:20251014T233000
DTSTAMP:20260419T081706
CREATED:20250909T160658Z
LAST-MODIFIED:20250909T161715Z
UID:7907-1760432400-1760484600@wrcac.org
SUMMARY:EmpowerHER Career Workshop - Your Resume Toolkit
DESCRIPTION:Embark on a transformative journey with the Women’s Resource Center in Alamance County’s “EmpowerHER” Job Search seminar. Whether you’re stepping into the working world for the first time or aiming to elevate your career\, this series has something for every woman at any stage of her career path. In this workshop\, you will learn how to create resumes\, cover letters\, and reference pages that highlight your value and grab an employer’s attention. \nEach workshop in the EmpowerHER Career Series stands on its own\, but together they build a powerful foundation for your job search. Attend all six to earn a completion certificate\, receive a clothing voucher\, and be entered to win a Food Lion Gift Card! \nRegister HERE
URL:https://wrcac.org/event/empowerher-career-workshop-your-resume-toolkit/
LOCATION:Women’s Resource Center in Alamance County\, 411 B West Fifth Street\, Burlington\, NC\, 27215\, United States
CATEGORIES:Employability Skills,Life Design,Workshops
ATTACH;FMTTYPE=image/png:https://wrcac.org/wp-content/uploads/2025/09/EmpowerHER-Cover-October-25.png
END:VEVENT
BEGIN:VEVENT
DTSTART;TZID=America/New_York:20251015T103000
DTEND;TZID=America/New_York:20251015T153000
DTSTAMP:20260419T081706
CREATED:20251001T163140Z
LAST-MODIFIED:20251001T163140Z
UID:7965-1760524200-1760542200@wrcac.org
SUMMARY:Dementia Live with Always Best Care's Beverly Bennett\, RN
DESCRIPTION:October 15th\, 2025\, Three Separate Sessions 10:30 AM\, 1:00 PM\, and 2:30 PM \nSeating is Limited. Please notify WRCAC if you register and are unable to attend \nStep into the shoes of someone living with dementia—join us for Dementia Live on October 15th at the Women’s Resource Center.\nChoose your Session Today! \nMore Information and Registration HERE
URL:https://wrcac.org/event/dementia-live-with-always-best-cares-beverly-bennett-rn/
LOCATION:Women’s Resource Center in Alamance County\, 411 B West Fifth Street\, Burlington\, NC\, 27215\, United States
CATEGORIES:Workshops
ATTACH;FMTTYPE=image/png:https://wrcac.org/wp-content/uploads/2025/10/Dementia-Live.png
END:VEVENT
BEGIN:VEVENT
DTSTART;TZID=America/New_York:20251016T090000
DTEND;TZID=America/New_York:20251016T233000
DTSTAMP:20260419T081706
CREATED:20250909T160854Z
LAST-MODIFIED:20250909T162008Z
UID:7909-1760605200-1760657400@wrcac.org
SUMMARY:EmpowerHER Career Workshop - Making Connections That Count
DESCRIPTION:Embark on a transformative journey with the Women’s Resource Center in Alamance County’s “EmpowerHER” Job Search seminar. Whether you’re stepping into the working world for the first time or aiming to elevate your career\, this series has something for every woman at any stage of her career path. In this workshop\, you will learn how to discover practical ways to expand your professional network and connect authentically with people who can open doors. \nEach workshop in the EmpowerHER Career Series stands on its own\, but together they build a powerful foundation for your job search. Attend all six to earn a completion certificate\, receive a clothing voucher\, and be entered to win a Food Lion Gift Card! \nRegister HERE
URL:https://wrcac.org/event/empowerher-career-workshop-making-connections-that-count/
LOCATION:Women’s Resource Center in Alamance County\, 411 B West Fifth Street\, Burlington\, NC\, 27215\, United States
CATEGORIES:Employability Skills,Life Design,Workshops
ATTACH;FMTTYPE=image/png:https://wrcac.org/wp-content/uploads/2025/09/EmpowerHER-Cover-October-25.png
END:VEVENT
BEGIN:VEVENT
DTSTART;TZID=America/New_York:20251021T090000
DTEND;TZID=America/New_York:20251021T113000
DTSTAMP:20260419T081706
CREATED:20250909T162434Z
LAST-MODIFIED:20250909T162434Z
UID:7915-1761037200-1761046200@wrcac.org
SUMMARY:EmpowerHER Career Workshop - Ace the Interview
DESCRIPTION:Embark on a transformative journey with the Women’s Resource Center in Alamance County’s “EmpowerHER” Job Search seminar. Whether you’re stepping into the working world for the first time or aiming to elevate your career\, this series has something for every woman at any stage of her career path. In this workshop\, you will gain insider tips to prepare for interviews\, answer tough questions\, and present yourself with confidence. \nEach workshop in the EmpowerHER Career Series stands on its own\, but together they build a powerful foundation for your job search. Attend all six to earn a completion certificate\, receive a clothing voucher\, and be entered to win a Food Lion Gift Card! \nRegister HERE
URL:https://wrcac.org/event/empowerher-career-workshop-ace-the-interview/
LOCATION:Women’s Resource Center in Alamance County\, 411 B West Fifth Street\, Burlington\, NC\, 27215\, United States
CATEGORIES:Employability Skills,Life Design,Workshops
ATTACH;FMTTYPE=image/png:https://wrcac.org/wp-content/uploads/2025/09/EmpowerHER-Cover-October-25.png
END:VEVENT
BEGIN:VEVENT
DTSTART;TZID=America/New_York:20251021T160000
DTEND;TZID=America/New_York:20251021T213000
DTSTAMP:20260419T081706
CREATED:20251001T174121Z
LAST-MODIFIED:20251001T174121Z
UID:7969-1761062400-1761082200@wrcac.org
SUMMARY:Meals that Matter
DESCRIPTION:Oct 21st\, 4:00 PM – 9:30 PM\nDine out for a cause on October 21st at Burlington Beer Works\, where 10% of your dinner supports the Women’s Resource Center of Alamance County —just tell your server you’re with WRCAC! \nReserve Your Table TODAY!
URL:https://wrcac.org/event/meals-that-matter/
LOCATION:Burlington Beer Works\, 103 E. Front St.\, Burlington\, NC\, 27215\, United States
CATEGORIES:Fundraiser
ATTACH;FMTTYPE=image/png:https://wrcac.org/wp-content/uploads/2025/10/Facebook-Cover-Join-Us-for-a-Fundraiser-Event.png
END:VEVENT
BEGIN:VEVENT
DTSTART;TZID=America/New_York:20251022T113000
DTEND;TZID=America/New_York:20251022T130000
DTSTAMP:20260419T081706
CREATED:20251001T164627Z
LAST-MODIFIED:20251001T170758Z
UID:7974-1761132600-1761138000@wrcac.org
SUMMARY:Working Women's Wednesday October 2025
DESCRIPTION:Mark your calendar for October 22nd! Join us for Working Women’s Wednesday as\nwe welcome Kristen Sutherland\, Housing Program Manager with United Way of\nAlamance County\, presenting United for Housing: Building Community for Structural\nChange. \nSecure Your Ticket TODAY!
URL:https://wrcac.org/event/working-womens-wednesday-october-2025/
LOCATION:Alamance Country Club\, 3007 North Fairway Drive\, Burlington\, NC\, 27215\, United States
CATEGORIES:Working Women's Wednesday
ATTACH;FMTTYPE=image/jpeg:https://wrcac.org/wp-content/uploads/2025/10/thumbnail_Kristen-Sutherland-Headshot.jpg
END:VEVENT
BEGIN:VEVENT
DTSTART;TZID=America/New_York:20251022T160000
DTEND;TZID=America/New_York:20251022T180000
DTSTAMP:20260419T081706
CREATED:20251001T164317Z
LAST-MODIFIED:20251001T164317Z
UID:7972-1761148800-1761156000@wrcac.org
SUMMARY:LinkedIn Lab
DESCRIPTION:LinkedIn Lab: Life Design for Your Career Presence – Where Life Design meets LinkedIn. \nMonthly workgroup at WRC \nReflect\, design\, and align your goals with your online presence \nShort Life Design & LinkedIn lesson + hands-on work time \nLeave each session with real progress on your career path and your profile \n📍 Women’s Resource Center \n🗓 Wednesday 10/22/2025 \n⏰ 4:00 – 6:00 PM \n💻 Bring your laptop \nMore Information and Registration HERE
URL:https://wrcac.org/event/linkedin-lab/
LOCATION:Women’s Resource Center in Alamance County\, 411 B West Fifth Street\, Burlington\, NC\, 27215\, United States
CATEGORIES:Employability Skills,Life Design,LinkedIn,Workshops
ATTACH;FMTTYPE=image/png:https://wrcac.org/wp-content/uploads/2025/10/LinkedIn-Lab-10.25.png
END:VEVENT
BEGIN:VEVENT
DTSTART;TZID=America/New_York:20251023T090000
DTEND;TZID=America/New_York:20251023T233000
DTSTAMP:20260419T081706
CREATED:20250909T162657Z
LAST-MODIFIED:20250909T162657Z
UID:7917-1761210000-1761262200@wrcac.org
SUMMARY:EmpowerHER Career Workshop - Practice Makes Perfect
DESCRIPTION:Embark on a transformative journey with the Women’s Resource Center in Alamance County’s “EmpowerHER” Job Search seminar. Whether you’re stepping into the working world for the first time or aiming to elevate your career\, this series has something for every woman at any stage of her career path. In this workshop\, you will put your skills to the test with a mock interview and receive constructive feedback to sharpen your presentation. \nEach workshop in the EmpowerHER Career Series stands on its own\, but together they build a powerful foundation for your job search. Attend all six to earn a completion certificate\, receive a clothing voucher\, and be entered to win a Food Lion Gift Card! \nRegister HERE
URL:https://wrcac.org/event/empowerher-career-workshop-practice-makes-perfect/
LOCATION:Women’s Resource Center in Alamance County\, 411 B West Fifth Street\, Burlington\, NC\, 27215\, United States
CATEGORIES:Employability Skills,Life Design,Workshops
ATTACH;FMTTYPE=image/png:https://wrcac.org/wp-content/uploads/2025/09/EmpowerHER-Cover-October-25.png
END:VEVENT
BEGIN:VEVENT
DTSTART;TZID=America/New_York:20251028T123000
DTEND;TZID=America/New_York:20251028T133000
DTSTAMP:20260419T081706
CREATED:20251001T164900Z
LAST-MODIFIED:20251001T164900Z
UID:7977-1761654600-1761658200@wrcac.org
SUMMARY:Breaking Up & Moving On October 2025
DESCRIPTION:Oct 28th at 12:30 pm\nGet your questions about divorce\,\nchild custody and separation\nanswered in a private\, one-hour Zoom\nsession with an experienced attorney\n—Register now to join from the comfort\nof your home!
URL:https://wrcac.org/event/breaking-up-moving-on-october-2025/
LOCATION:ZOOM
CATEGORIES:Workshops
ATTACH;FMTTYPE=image/png:https://wrcac.org/wp-content/uploads/2025/10/Facebook-Cover-Breaking-Up-Moving-On-A-Workshop-5.png
END:VEVENT
BEGIN:VEVENT
DTSTART;TZID=America/New_York:20251029T190000
DTEND;TZID=America/New_York:20251029T203000
DTSTAMP:20260419T081707
CREATED:20251001T171546Z
LAST-MODIFIED:20251001T171546Z
UID:7984-1761764400-1761769800@wrcac.org
SUMMARY:BookWomen Book Club
DESCRIPTION:This month’s selection\, The Collected Regrets of Clover by Mikki Brammer\, follows Clover Brooks\, a death doula who helps others at life’s end while struggling with her own grief and regrets. Through her journey\, the novel explores themes of loss\, love\, and growth\, reminding us of the importance of living fully and embracing new beginnings.
URL:https://wrcac.org/event/bookwomen-book-club-4/
LOCATION:Women’s Resource Center in Alamance County\, 411 B West Fifth Street\, Burlington\, NC\, 27215\, United States
CATEGORIES:BookWomen
ATTACH;FMTTYPE=image/jpeg:https://wrcac.org/wp-content/uploads/2025/10/clover.jpg
END:VEVENT
END:VCALENDAR