BEGIN:VCALENDAR
VERSION:2.0
PRODID:-//Women&#039;s Resource Center in Alamance County - ECPv6.15.17.1//NONSGML v1.0//EN
CALSCALE:GREGORIAN
METHOD:PUBLISH
X-WR-CALNAME:Women&#039;s Resource Center in Alamance County
X-ORIGINAL-URL:https://wrcac.org
X-WR-CALDESC:Events for Women&#039;s Resource Center in Alamance County
REFRESH-INTERVAL;VALUE=DURATION:PT1H
X-Robots-Tag:noindex
X-PUBLISHED-TTL:PT1H
BEGIN:VTIMEZONE
TZID:America/New_York
BEGIN:DAYLIGHT
TZOFFSETFROM:-0500
TZOFFSETTO:-0400
TZNAME:EDT
DTSTART:20240310T070000
END:DAYLIGHT
BEGIN:STANDARD
TZOFFSETFROM:-0400
TZOFFSETTO:-0500
TZNAME:EST
DTSTART:20241103T060000
END:STANDARD
BEGIN:DAYLIGHT
TZOFFSETFROM:-0500
TZOFFSETTO:-0400
TZNAME:EDT
DTSTART:20250309T070000
END:DAYLIGHT
BEGIN:STANDARD
TZOFFSETFROM:-0400
TZOFFSETTO:-0500
TZNAME:EST
DTSTART:20251102T060000
END:STANDARD
BEGIN:DAYLIGHT
TZOFFSETFROM:-0500
TZOFFSETTO:-0400
TZNAME:EDT
DTSTART:20260308T070000
END:DAYLIGHT
BEGIN:STANDARD
TZOFFSETFROM:-0400
TZOFFSETTO:-0500
TZNAME:EST
DTSTART:20261101T060000
END:STANDARD
END:VTIMEZONE
BEGIN:VEVENT
DTSTART;TZID=America/New_York:20250930T123000
DTEND;TZID=America/New_York:20250930T133000
DTSTAMP:20260417T073504
CREATED:20250811T194722Z
LAST-MODIFIED:20250811T194722Z
UID:7859-1759235400-1759239000@wrcac.org
SUMMARY:Breaking Up & Moving On September 2025
DESCRIPTION:VIRTUAL   Tuesday\, September 30th at 12:30 PM \nThis one-hour Zoom meeting is facilitated by an attorney who will answer your questions about divorce\, child custody\, and separation. Zoom will help make this workshop easier to attend and give you more privacy! \nTo participate\, register through our website or call our office at 336-227-6900. We will explain the process and register you for the meeting. Then\, in the privacy of your home or office\, you can Zoom in and get some of your questions about this critical transition answered. \nRegister HERE
URL:https://wrcac.org/event/breaking-up-moving-on-september-2025/
LOCATION:ZOOM
CATEGORIES:Workshops
ATTACH;FMTTYPE=image/png:https://wrcac.org/wp-content/uploads/2025/08/Facebook-Cover-Breaking-Up-Moving-On-A-Workshop-4.png
END:VEVENT
END:VCALENDAR