BEGIN:VCALENDAR
VERSION:2.0
PRODID:-//Women&#039;s Resource Center in Alamance County - ECPv6.15.17.1//NONSGML v1.0//EN
CALSCALE:GREGORIAN
METHOD:PUBLISH
X-WR-CALNAME:Women&#039;s Resource Center in Alamance County
X-ORIGINAL-URL:https://wrcac.org
X-WR-CALDESC:Events for Women&#039;s Resource Center in Alamance County
REFRESH-INTERVAL;VALUE=DURATION:PT1H
X-Robots-Tag:noindex
X-PUBLISHED-TTL:PT1H
BEGIN:VTIMEZONE
TZID:America/New_York
BEGIN:DAYLIGHT
TZOFFSETFROM:-0500
TZOFFSETTO:-0400
TZNAME:EDT
DTSTART:20240310T070000
END:DAYLIGHT
BEGIN:STANDARD
TZOFFSETFROM:-0400
TZOFFSETTO:-0500
TZNAME:EST
DTSTART:20241103T060000
END:STANDARD
BEGIN:DAYLIGHT
TZOFFSETFROM:-0500
TZOFFSETTO:-0400
TZNAME:EDT
DTSTART:20250309T070000
END:DAYLIGHT
BEGIN:STANDARD
TZOFFSETFROM:-0400
TZOFFSETTO:-0500
TZNAME:EST
DTSTART:20251102T060000
END:STANDARD
BEGIN:DAYLIGHT
TZOFFSETFROM:-0500
TZOFFSETTO:-0400
TZNAME:EDT
DTSTART:20260308T070000
END:DAYLIGHT
BEGIN:STANDARD
TZOFFSETFROM:-0400
TZOFFSETTO:-0500
TZNAME:EST
DTSTART:20261101T060000
END:STANDARD
END:VTIMEZONE
BEGIN:VEVENT
DTSTART;TZID=America/New_York:20251117T110000
DTEND;TZID=America/New_York:20251117T123000
DTSTAMP:20260417T215504
CREATED:20251103T200838Z
LAST-MODIFIED:20251103T200921Z
UID:8013-1763377200-1763382600@wrcac.org
SUMMARY:The Style Alignment Effect (When Who You Are Mets What They See)
DESCRIPTION:November 17th\, 11 AM – 12:30 PM \nPresented by Bianca Smith \nStyle Alignment is about more than clothes—it’s about connection. This interactive workshop helps you align who you are (and who you’re becoming) with how you show up every day. Together\, we’ll explore how your personal style can reflect your goals\, values\, and confidence. You’ll learn simple strategies to build a wardrobe that speaks for you\, discover how small style shifts can create powerful first impressions\, and leave with practical tools to show up as your best self\, authentically and intentionally. \nReserve Your Seat Today! https://lp.constantcontactpages.com/ev/reg/qyfvs25
URL:https://wrcac.org/event/the-style-alignment-effect-when-who-you-are-mets-what-they-see/
LOCATION:Women’s Resource Center in Alamance County\, 411 B West Fifth Street\, Burlington\, NC\, 27215\, United States
CATEGORIES:Life Design,Workshops
ATTACH;FMTTYPE=image/png:https://wrcac.org/wp-content/uploads/2025/11/Style-Alignment-Header-.png
END:VEVENT
END:VCALENDAR