BEGIN:VCALENDAR
VERSION:2.0
PRODID:-//Women&#039;s Resource Center in Alamance County - ECPv6.15.17.1//NONSGML v1.0//EN
CALSCALE:GREGORIAN
METHOD:PUBLISH
X-WR-CALNAME:Women&#039;s Resource Center in Alamance County
X-ORIGINAL-URL:https://wrcac.org
X-WR-CALDESC:Events for Women&#039;s Resource Center in Alamance County
REFRESH-INTERVAL;VALUE=DURATION:PT1H
X-Robots-Tag:noindex
X-PUBLISHED-TTL:PT1H
BEGIN:VTIMEZONE
TZID:America/New_York
BEGIN:DAYLIGHT
TZOFFSETFROM:-0500
TZOFFSETTO:-0400
TZNAME:EDT
DTSTART:20240310T070000
END:DAYLIGHT
BEGIN:STANDARD
TZOFFSETFROM:-0400
TZOFFSETTO:-0500
TZNAME:EST
DTSTART:20241103T060000
END:STANDARD
BEGIN:DAYLIGHT
TZOFFSETFROM:-0500
TZOFFSETTO:-0400
TZNAME:EDT
DTSTART:20250309T070000
END:DAYLIGHT
BEGIN:STANDARD
TZOFFSETFROM:-0400
TZOFFSETTO:-0500
TZNAME:EST
DTSTART:20251102T060000
END:STANDARD
BEGIN:DAYLIGHT
TZOFFSETFROM:-0500
TZOFFSETTO:-0400
TZNAME:EDT
DTSTART:20260308T070000
END:DAYLIGHT
BEGIN:STANDARD
TZOFFSETFROM:-0400
TZOFFSETTO:-0500
TZNAME:EST
DTSTART:20261101T060000
END:STANDARD
END:VTIMEZONE
BEGIN:VEVENT
DTSTART;TZID=America/New_York:20251022T160000
DTEND;TZID=America/New_York:20251022T180000
DTSTAMP:20260416T212053
CREATED:20251001T164317Z
LAST-MODIFIED:20251001T164317Z
UID:7972-1761148800-1761156000@wrcac.org
SUMMARY:LinkedIn Lab
DESCRIPTION:LinkedIn Lab: Life Design for Your Career Presence – Where Life Design meets LinkedIn. \nMonthly workgroup at WRC \nReflect\, design\, and align your goals with your online presence \nShort Life Design & LinkedIn lesson + hands-on work time \nLeave each session with real progress on your career path and your profile \n📍 Women’s Resource Center \n🗓 Wednesday 10/22/2025 \n⏰ 4:00 – 6:00 PM \n💻 Bring your laptop \nMore Information and Registration HERE
URL:https://wrcac.org/event/linkedin-lab/
LOCATION:Women’s Resource Center in Alamance County\, 411 B West Fifth Street\, Burlington\, NC\, 27215\, United States
CATEGORIES:Employability Skills,Life Design,LinkedIn,Workshops
ATTACH;FMTTYPE=image/png:https://wrcac.org/wp-content/uploads/2025/10/LinkedIn-Lab-10.25.png
END:VEVENT
END:VCALENDAR