BEGIN:VCALENDAR
VERSION:2.0
PRODID:-//Women&#039;s Resource Center in Alamance County - ECPv6.15.17.1//NONSGML v1.0//EN
CALSCALE:GREGORIAN
METHOD:PUBLISH
X-ORIGINAL-URL:https://wrcac.org
X-WR-CALDESC:Events for Women&#039;s Resource Center in Alamance County
REFRESH-INTERVAL;VALUE=DURATION:PT1H
X-Robots-Tag:noindex
X-PUBLISHED-TTL:PT1H
BEGIN:VTIMEZONE
TZID:America/New_York
BEGIN:DAYLIGHT
TZOFFSETFROM:-0500
TZOFFSETTO:-0400
TZNAME:EDT
DTSTART:20240310T070000
END:DAYLIGHT
BEGIN:STANDARD
TZOFFSETFROM:-0400
TZOFFSETTO:-0500
TZNAME:EST
DTSTART:20241103T060000
END:STANDARD
BEGIN:DAYLIGHT
TZOFFSETFROM:-0500
TZOFFSETTO:-0400
TZNAME:EDT
DTSTART:20250309T070000
END:DAYLIGHT
BEGIN:STANDARD
TZOFFSETFROM:-0400
TZOFFSETTO:-0500
TZNAME:EST
DTSTART:20251102T060000
END:STANDARD
BEGIN:DAYLIGHT
TZOFFSETFROM:-0500
TZOFFSETTO:-0400
TZNAME:EDT
DTSTART:20260308T070000
END:DAYLIGHT
BEGIN:STANDARD
TZOFFSETFROM:-0400
TZOFFSETTO:-0500
TZNAME:EST
DTSTART:20261101T060000
END:STANDARD
END:VTIMEZONE
BEGIN:VEVENT
DTSTART;TZID=America/New_York:20251106T180000
DTEND;TZID=America/New_York:20251106T200000
DTSTAMP:20260417T044145
CREATED:20251001T165944Z
LAST-MODIFIED:20251001T165944Z
UID:7979-1762452000-1762459200@wrcac.org
SUMMARY:12th Annual Leading the Way
DESCRIPTION:Honoring Alamance County’s Outstanding Women Leaders\nWe are thrilled to share the exciting news! The Women’s Resource Center in Alamance County is proud to announce the 12th Annual Leading the Way Honorees for the 2025 Founders’ and Rising Star Awards. \nThese incredible women embody passion\, leadership\, and commitment to making a difference in our community. Their impact is powerful\, their dedication is inspiring\, and their stories remind us all of the importance of lifting one another as we rise. \nJoin us for an evening of recognition and inspiration as we honor these extraordinary leaders who are truly Leading the Way. \nCongratulations to our 2025 Honorees! \nTickets and More Information Here
URL:https://wrcac.org/event/12th-annual-leading-the-way/
LOCATION:First Presbyterian Church\, Shive Hall\, 508 West Davis Street\, Burlington\, NC\, 217215\, United States
CATEGORIES:Fundraiser
ATTACH;FMTTYPE=image/png:https://wrcac.org/wp-content/uploads/2025/10/2025-LEADING-THE-WAY-4.png
END:VEVENT
END:VCALENDAR