BEGIN:VCALENDAR
VERSION:2.0
PRODID:-//Women&#039;s Resource Center in Alamance County - ECPv6.15.17.1//NONSGML v1.0//EN
CALSCALE:GREGORIAN
METHOD:PUBLISH
X-WR-CALNAME:Women&#039;s Resource Center in Alamance County
X-ORIGINAL-URL:https://wrcac.org
X-WR-CALDESC:Events for Women&#039;s Resource Center in Alamance County
REFRESH-INTERVAL;VALUE=DURATION:PT1H
X-Robots-Tag:noindex
X-PUBLISHED-TTL:PT1H
BEGIN:VTIMEZONE
TZID:America/New_York
BEGIN:DAYLIGHT
TZOFFSETFROM:-0500
TZOFFSETTO:-0400
TZNAME:EDT
DTSTART:20250309T070000
END:DAYLIGHT
BEGIN:STANDARD
TZOFFSETFROM:-0400
TZOFFSETTO:-0500
TZNAME:EST
DTSTART:20251102T060000
END:STANDARD
BEGIN:DAYLIGHT
TZOFFSETFROM:-0500
TZOFFSETTO:-0400
TZNAME:EDT
DTSTART:20260308T070000
END:DAYLIGHT
BEGIN:STANDARD
TZOFFSETFROM:-0400
TZOFFSETTO:-0500
TZNAME:EST
DTSTART:20261101T060000
END:STANDARD
BEGIN:DAYLIGHT
TZOFFSETFROM:-0500
TZOFFSETTO:-0400
TZNAME:EDT
DTSTART:20270314T070000
END:DAYLIGHT
BEGIN:STANDARD
TZOFFSETFROM:-0400
TZOFFSETTO:-0500
TZNAME:EST
DTSTART:20271107T060000
END:STANDARD
END:VTIMEZONE
BEGIN:VEVENT
DTSTART;TZID=America/New_York:20260225T113000
DTEND;TZID=America/New_York:20260225T130000
DTSTAMP:20260419T082031
CREATED:20260223T182150Z
LAST-MODIFIED:20260223T182150Z
UID:8369-1772019000-1772024400@wrcac.org
SUMMARY:February 2026 Working Women's Wednesday
DESCRIPTION:Working Women’s Wednesday – February 25\, 2026Join us from 11:30 AM to 1:00 PM for Working Women’s Wednesday featuring Dr. Judy Butler presenting “Legacy & Leadership.” Explore how purpose\, storytelling\, and intentional living shape both personal and professional growth. Connect with local women leaders and leave inspired to create your own meaningful legacy. \nReserve Your Ticket Today: https://givebutter.com/WWWFeb2026
URL:https://wrcac.org/event/february-2026-working-womens-wednesday/
LOCATION:Alamance Country Club\, 3007 North Fairway Drive\, Burlington\, NC\, 27215\, United States
CATEGORIES:Fundraiser,Working Women's Wednesday
ATTACH;FMTTYPE=image/jpeg:https://wrcac.org/wp-content/uploads/2026/02/Judy-Butler-Head-shot.jpeg
END:VEVENT
END:VCALENDAR